Workbook
Name Adjusted_regulated_tax_liability: 'R8 - Tax'!$E$36:$I$36
Name Adjusted_regulated_tax_liability__Reporting_Year: 'R8 - Tax'!$E$36:$I$36
Name ARCMt: #REF!
Name ARtDR5: #REF!
Name AUM: #REF!
Name BMt_2: #REF!
Name BPC: #REF!
Name Business_Plan_Incentive: 'R1 - RoRE'!$D$71:$H$71
Name calendar_year: Data!$F$33:$L$33
Name CAS: #REF!
Name CGSPM: #REF!
Name CGSRA: #REF!
Name CIA: #REF!
Name CIB: #REF!
Name CIBt_2: #REF!
Name CIBt_3: #REF!
Name CIBt_4: #REF!
Name CIC: #REF!
Name CID: #REF!
Name CIE: #REF!
Name CIM: #REF!
Name CMLA: #REF!
Name CMLB: #REF!
Name CMLBt_2: #REF!
Name CMLBt_3: #REF!
Name CMLBt_4: #REF!
Name CMLC: #REF!
Name CMLD: #REF!
Name CMLE: #REF!
Name Combined_real_to_nominal_prices_conversion_factor__financial_year_end: Data!$F$36:$L$36
Name Corporate_Tax: Data!$C$13:$N$13
Name Cost_of_Equity: Data!$C$6
Name CPIRt: #REF!
Name CRC5B: #REF!
Name CRC5C: #REF!
Name CRC5E: #REF!
Name CRIRt: #REF!
Name CSADt: #REF!
Name CSAUt: #REF!
Name CSBDt: #REF!
Name CSBUt: #REF!
Name CSCDt: #REF!
Name CSCUt: #REF!
Name CT: #REF!
Name Debt_performance___at_notional_gearing: 'R1 - RoRE'!$D$90:$H$90
Name Debt_performance___impact_of_actual_gearing: 'R1 - RoRE'!$D$91:$H$91
Name DecimalPlaces: #REF!
Name DLGT: #REF!
Name DNOName: #REF!
Name DR5Q: #REF!
Name ENIA: #REF!
Name Equity_RAV_based_on_actual_gearing: 'R1 - RoRE'!$D$97:$H$97
Name Equity_Return_on_the_RAV: 'R1 - RoRE'!$D$69:$H$69
Name ESTR: #REF!
Name FPPR: #REF!
Name GAS: #REF!
Name GIM: #REF!
Name GPIRt: #REF!
Name GRIRt: #REF!
Name GTA: #REF!

Sheet RFPR cover
A2: Regulatory Financial Performance Report
A3: =Licensee -> SPD
B6: RIIO-2 start date (enter 2022 for 2021-22) | C6: {=INDEX(Data!$E$63:'Data'!$E$91,MATCH(Licensee,Data!$B$63:$B$91,0),0)} -> 2024
B7: Licensee | C7: SPD | G7: Input cells
B8: Sector | C8: =INDEX(Data!$A$63:$A$91,MATCH($C$7,Data!$B$63:$B$91,0),0)&"2" -> ED2 | G8: Totals cells (of formula within worksheet)
B9: Reporting Year: (e.g. enter 2022 for 2021-22) | C9: 2026 | G9: Linked cells
B10: Version (Number) | G10: Referencing to other workbooks (Eg. PCFM/ RRP)
B11: Submitted Date: | G11: Check cells
G12: No Input
G13: Descriptions and pack data

Sheet Data
A1: Network Operator Data
A2: =Licensee -> SPD
A3: =Reporting_Year -> 2026
B6: Cost of Equity | C6: =INDEX(O63:U91,MATCH(Licensee,Data!B63:B91,0),MATCH(Reporting_Year,Data!O62:U62,0)) -> 0.054475396 | F6: check £m | H6: ED | I6: £m 20/21
B7: Sharing Factor | C7: =SUMIF(Data!$B$62:$B$91,'RFPR cover'!C7,Data!$C$62:$C$91) -> 0.5 | F7: 0.1 | H7: ET | I7: £m 18/19
B8: Notional Gearing | C8: =SUMIF(Data!$B$62:$B$91,'RFPR cover'!C7,Data!$D$62:$D$91) -> 0.6 | H8: GD | I8: £m 18/19
B9: Price basis | C9: =INDEX(Data!$F$63:$F$91,MATCH('RFPR cover'!$C$7,Data!$B$63:$B$91,0),0) -> £m 20/21 | H9: GT | I9: £m 18/19
B10: Deadband threshold for materiality checks for use in R8a (Rows 31-93) | C10: =INDEX(Data!$M$315:$S$343,MATCH('RFPR cover'!$C$7,Data!$L$315:$L$343,0),MATCH(#REF!,Data!$M$314:$S$314,0)) -> #REF! | H10: ESO | I10: £m 18/19
B11: Deadband threshold for use in R8a (Row 95) | C11: =INDEX(Data!$M$350:$S$378,MATCH('RFPR cover'!$C$7,Data!$L$350:$L$378,0),MATCH(#REF!,Data!$M$349:$S$349,0)) -> #REF!
B13: Corporate Tax | C13: 0.19 | D13: 0.19 | E13: 0.19 | F13: 0.19 | G13: 0.19 | H13: 0.25 | I13: 0.25 | J13: 0.25 | K13: 0.25 | L13: 0.25 | M13: 0.25 | N13: 0.25
A15: GD&T | B15: Price indices*
B16: Actual / Forecast index | C16: =IF(VALUE(C18)<=Reporting_Year,"Actual","Forecast") -> Actual | D16: =IF(VALUE(D18)<=Reporting_Year,"Actual","Forecast") -> Actual | E16: =IF(VALUE(E18)<=Reporting_Year,"Actual","Forecast") -> Actual | F16: =IF(VALUE(F18)<=Reporting_Year,"Actual","Forecast") -> Actual | G16: =IF(VALUE(G18)<=Reporting_Year,"Actual","Forecast") -> Actual | H16: =IF(VALUE(H18)<=Reporting_Year,"Actual","Forecast") -> Actual | I16: =IF(VALUE(I18)<=Reporting_Year,"Actual","Forecast") -> Actual | J16: =IF(VALUE(J18)<=Reporting_Year,"Actual","Forecast") -> Actual | ... N16: =IF(VALUE(N18)<=Reporting_Year,"Actual","Forecast") -> Forecast
B17: Year end | C17: 43555 | D17: 43921 | E17: 44286 | F17: 44651 | G17: 45016 | H17: 45382 | I17: 45747 | J17: 46112 | K17: 46477 | L17: 46843 | M17: 47208 | N17: 47573
B18: Reporting Year | C18: 2019 | D18: 2020 | E18: 2021 | F18: 2022 | G18: 2023 | H18: 2024 | I18: 2025 | J18: 2026 | K18: 2027 | L18: 2028 | M18: 2029 | N18: 2030
B19: Financial Year Average RPI - CPIH (PIt) | C19: 283.30833 | D19: 290.64167 | E19: 294.16667 | F19: 307.32821 | G19: 334.29358 | H19: 352.83652 | I19: 364.17963 | J19: 374.87823 | K19: =J19*(1+K$22) -> 382.3758 | L19: =K19*(1+L$22) -> 390.02332 | M19: =L19*(1+M$22) -> 397.82378 | N19: =M19*(1+N$22) -> 405.78026
B20: Combined RPI-CPIH price index (financial year end) | C20: 286.65 | D20: 292.6 | E20: 298.42363 | F20: 319.91658 | G20: 346.54233 | H20: 358.36091 | I20: 370.25983 | J20: 378.51933 | K20: =J20*(1+K$22) -> 386.08972 | L20: =K20*(1+L$22) -> 393.81152 | M20: =L20*(1+M$22) -> 401.68775 | N20: =M20*(1+N$22) -> 409.7215
B21: Consumer Prices Index incl. housing costs (financial year average) | C21: 106.43333 | D21: 108.24167 | E21: 109.10833 | F21: 113.11667 | G21: 123.04167 | H21: 129.86667 | I21: 134.04167 | J21: 137.97944 | K21: =J21*(1+K$22) -> 140.73903 | L21: =K21*(1+L$22) -> 143.55381 | M21: =L21*(1+M$22) -> 146.42489 | N21: =M21*(1+N$22) -> 149.35339
B22: Long term CPIH inflation forecast | K22: 0.02 | L22: 0.02 | M22: 0.02 | N22: 0.02 | O22: LTCPIHt
H23: =H19/G19 -> 1.055469 | I23: =I19/H19 -> 1.0321484 | J23: =J19/I19 -> 1.0293773
A24: ED2 | B24: Price Indices*
B25: Actual / Forecast index | C25: =IF(VALUE(C27)<=Reporting_Year,"Actual","Forecast") -> Actual | D25: =IF(VALUE(D27)<=Reporting_Year,"Actual","Forecast") -> Actual | E25: =IF(VALUE(E27)<=Reporting_Year,"Actual","Forecast") -> Actual | F25: =IF(VALUE(F27)<=Reporting_Year,"Actual","Forecast") -> Actual | G25: =IF(VALUE(G27)<=Reporting_Year,"Actual","Forecast") -> Actual | H25: =IF(VALUE(H27)<=Reporting_Year,"Actual","Forecast") -> Actual | I25: =IF(VALUE(I27)<=Reporting_Year,"Actual","Forecast") -> Actual | J25: =IF(VALUE(J27)<=Reporting_Year,"Actual","Forecast") -> Actual | ... N25: =IF(VALUE(N27)<=Reporting_Year,"Actual","Forecast") -> Forecast
B26: Year end | C26: 43555 | D26: 43921 | E26: 44286 | F26: 44651 | G26: 45016 | H26: 45382 | I26: 45747 | J26: 46112 | K26: 46477 | L26: 46843 | M26: 47208 | N26: 47573
B27: Reporting Year | C27: 2019 | D27: 2020 | E27: 2021 | F27: 2022 | G27: 2023 | H27: 2024 | I27: 2025 | J27: 2026 | K27: 2027 | L27: 2028 | M27: 2029 | N27: 2030
B28: Financial Year Average RPI - CPIH (PIt) | C28: 283.30833 | D28: 290.64167 | E28: 294.16667 | F28: 311.15833 | G28: 351.21667 | H28: 376.7165 | I28: 388.82732 | J28: 403.54885 | K28: 408.5665 | L28: 416.71585 | M28: =L28*(1+M$22) -> 425.05017 | N28: =M28*(1+N$22) -> 433.55117
B29: Combined RPI-CPIH price index (financial year end) | C29: 286.65 | D29: 292.6 | E29: 299 | F29: 329.05 | G29: 369.68596 | H29: 382.61478 | I29: 395.31903 | J29: 404.48527 | K29: 412.61137 | L29: 420.50827 | M29: =L29*(1+M$22) -> 428.91844 | N29: =M29*(1+N$22) -> 437.49681
B31: Price Conversion Factors*
E32: =IF(E33<='RFPR cover'!$C$9,"Actuals","Forecast") -> Actuals | F32: =IF(F33<='RFPR cover'!$C$9,"Actuals","Forecast") -> Actuals | G32: =IF(G33<='RFPR cover'!$C$9,"Actuals","Forecast") -> Actuals | H32: =IF(H33<='RFPR cover'!$C$9,"Actuals","Forecast") -> Actuals | I32: =IF(I33<='RFPR cover'!$C$9,"Actuals","Forecast") -> Actuals | J32: =IF(J33<='RFPR cover'!$C$9,"Actuals","Forecast") -> Actuals | K32: =IF(K33<='RFPR cover'!$C$9,"Actuals","Forecast") -> Forecast | L32: =IF(L33<='RFPR cover'!$C$9,"Actuals","Forecast") -> Forecast
E33: 2021 | F33: =E33+1 -> 2022 | G33: =F33+1 -> 2023 | H33: =G33+1 -> 2024 | I33: =H33+1 -> 2025 | J33: =I33+1 -> 2026 | K33: =J33+1 -> 2027 | L33: =K33+1 -> 2028
D34: RPI-CPIH real to nominal prices CF | E34: =IF(SectorCov="ED2",E28/INDEX($C$28:$N$28,MATCH($E$27,$C$27:$N$27,0)),E19/INDEX($C$19:$N$19,MATCH($C$18,$C$18:$N$18,0))) -> 1 | F34: =IF(SectorCov="ED2",F28/INDEX($C$28:$N$28,MATCH($E$27,$C$27:$N$27,0)),F19/INDEX($C$19:$N$19,MATCH($C$18,$C$18:$N$18,0))) -> 1.057762 | G34: =IF(SectorCov="ED2",G28/INDEX($C$28:$N$28,MATCH($E$27,$C$27:$N$27,0)),G19/INDEX($C$19:$N$19,MATCH($C$18,$C$18:$N$18,0))) -> 1.1939377 | H34: =IF(SectorCov="ED2",H28/INDEX($C$28:$N$28,MATCH($E$27,$C$27:$N$27,0)),H19/INDEX($C$19:$N$19,MATCH($C$18,$C$18:$N$18,0))) -> 1.2806227 | I34: =IF(SectorCov="ED2",I28/INDEX($C$28:$N$28,MATCH($E$27,$C$27:$N$27,0)),I19/INDEX($C$19:$N$19,MATCH($C$18,$C$18:$N$18,0))) -> 1.3217926 | J34: =IF(SectorCov="ED2",J28/INDEX($C$28:$N$28,MATCH($E$27,$C$27:$N$27,0)),J19/INDEX($C$19:$N$19,MATCH($C$18,$C$18:$N$18,0))) -> 1.3718375 | K34: =IF(SectorCov="ED2",K28/INDEX($C$28:$N$28,MATCH($E$27,$C$27:$N$27,0)),K19/INDEX($C$19:$N$19,MATCH($C$18,$C$18:$N$18,0))) -> 1.3888946 | L34: =IF(SectorCov="ED2",L28/INDEX($C$28:$N$28,MATCH($E$27,$C$27:$N$27,0)),L19/INDEX($C$19:$N$19,MATCH($C$18,$C$18:$N$18,0))) -> 1.4165978
D35: 1 year change in Fin Year Average RPI-CPIH | E35: =IF(Sector="ED2",INDEX(Data!$C$28:$N$28,MATCH(E$33,Data!$C$27:$N$27,0))/INDEX(Data!$C$28:$N$28,MATCH(E$33-1,Data!$C$27:$N$27,0)),INDEX(Data!$C$19:$N$19,MATCH(E$33,Data!$C$18:$N$18,0))/INDEX(Data!$C$19:$N$19,MATCH(E$33-1,Data!$C$18:$N$18,0))) -> 1.0121283 | F35: =IF(Sector="ED2",INDEX(Data!$C$28:$N$28,MATCH(F$33,Data!$C$27:$N$27,0))/INDEX(Data!$C$28:$N$28,MATCH(F$33-1,Data!$C$27:$N$27,0)),INDEX(Data!$C$19:$N$19,MATCH(F$33,Data!$C$18:$N$18,0))/INDEX(Data!$C$19:$N$19,MATCH(F$33-1,Data!$C$18:$N$18,0))) -> 1.057762 | G35: =IF(Sector="ED2",INDEX(Data!$C$28:$N$28,MATCH(G$33,Data!$C$27:$N$27,0))/INDEX(Data!$C$28:$N$28,MATCH(G$33-1,Data!$C$27:$N$27,0)),INDEX(Data!$C$19:$N$19,MATCH(G$33,Data!$C$18:$N$18,0))/INDEX(Data!$C$19:$N$19,MATCH(G$33-1,Data!$C$18:$N$18,0))) -> 1.1287394 | H35: =IF(Sector="ED2",INDEX(Data!$C$28:$N$28,MATCH(H$33,Data!$C$27:$N$27,0))/INDEX(Data!$C$28:$N$28,MATCH(H$33-1,Data!$C$27:$N$27,0)),INDEX(Data!$C$19:$N$19,MATCH(H$33,Data!$C$18:$N$18,0))/INDEX(Data!$C$19:$N$19,MATCH(H$33-1,Data!$C$18:$N$18,0))) -> 1.0726043 | I35: =IF(Sector="ED2",INDEX(Data!$C$28:$N$28,MATCH(I$33,Data!$C$27:$N$27,0))/INDEX(Data!$C$28:$N$28,MATCH(I$33-1,Data!$C$27:$N$27,0)),INDEX(Data!$C$19:$N$19,MATCH(I$33,Data!$C$18:$N$18,0))/INDEX(Data!$C$19:$N$19,MATCH(I$33-1,Data!$C$18:$N$18,0))) -> 1.0321484 | J35: =IF(Sector="ED2",INDEX(Data!$C$28:$N$28,MATCH(J$33,Data!$C$27:$N$27,0))/INDEX(Data!$C$28:$N$28,MATCH(J$33-1,Data!$C$27:$N$27,0)),INDEX(Data!$C$19:$N$19,MATCH(J$33,Data!$C$18:$N$18,0))/INDEX(Data!$C$19:$N$19,MATCH(J$33-1,Data!$C$18:$N$18,0))) -> 1.0378614 | K35: =IF(Sector="ED2",INDEX(Data!$C$28:$N$28,MATCH(K$33,Data!$C$27:$N$27,0))/INDEX(Data!$C$28:$N$28,MATCH(K$33-1,Data!$C$27:$N$27,0)),INDEX(Data!$C$19:$N$19,MATCH(K$33,Data!$C$18:$N$18,0))/INDEX(Data!$C$19:$N$19,MATCH(K$33-1,Data!$C$18:$N$18,0))) -> 1.0124338 | L35: =IF(Sector="ED2",INDEX(Data!$C$28:$N$28,MATCH(L$33,Data!$C$27:$N$27,0))/INDEX(Data!$C$28:$N$28,MATCH(L$33-1,Data!$C$27:$N$27,0)),INDEX(Data!$C$19:$N$19,MATCH(L$33,Data!$C$18:$N$18,0))/INDEX(Data!$C$19:$N$19,MATCH(L$33-1,Data!$C$18:$N$18,0))) -> 1.0199462
D36: Combined real to nominal prices conversion factor (financial year end) | E36: =IF(SectorCov="ED2",INDEX(Data!$C$29:$N$29,MATCH(E$33,Data!$C$27:$N$27,0))/Data!$E$28,INDEX(Data!$C$20:$N$20,MATCH(E$33,Data!$C$18:$N$18,0))/Data!$C$19) -> 1.0164306 | F36: =IF(SectorCov="ED2",INDEX(Data!$C$29:$N$29,MATCH(F$33,Data!$C$27:$N$27,0))/Data!$E$28,INDEX(Data!$C$20:$N$20,MATCH(F$33,Data!$C$18:$N$18,0))/Data!$C$19) -> 1.1185836 | G36: =IF(SectorCov="ED2",INDEX(Data!$C$29:$N$29,MATCH(G$33,Data!$C$27:$N$27,0))/Data!$E$28,INDEX(Data!$C$20:$N$20,MATCH(G$33,Data!$C$18:$N$18,0))/Data!$C$19) -> 1.2567228 | H36: =IF(SectorCov="ED2",INDEX(Data!$C$29:$N$29,MATCH(H$33,Data!$C$27:$N$27,0))/Data!$E$28,INDEX(Data!$C$20:$N$20,MATCH(H$33,Data!$C$18:$N$18,0))/Data!$C$19) -> 1.3006735 | I36: =IF(SectorCov="ED2",INDEX(Data!$C$29:$N$29,MATCH(I$33,Data!$C$27:$N$27,0))/Data!$E$28,INDEX(Data!$C$20:$N$20,MATCH(I$33,Data!$C$18:$N$18,0))/Data!$C$19) -> 1.3438607 | J36: =IF(SectorCov="ED2",INDEX(Data!$C$29:$N$29,MATCH(J$33,Data!$C$27:$N$27,0))/Data!$E$28,INDEX(Data!$C$20:$N$20,MATCH(J$33,Data!$C$18:$N$18,0))/Data!$C$19) -> 1.3750207 | K36: =IF(SectorCov="ED2",INDEX(Data!$C$29:$N$29,MATCH(K$33,Data!$C$27:$N$27,0))/Data!$E$28,INDEX(Data!$C$20:$N$20,MATCH(K$33,Data!$C$18:$N$18,0))/Data!$C$19) -> 1.4026449 | L36: =IF(SectorCov="ED2",INDEX(Data!$C$29:$N$29,MATCH(L$33,Data!$C$27:$N$27,0))/Data!$E$28,INDEX(Data!$C$20:$N$20,MATCH(L$33,Data!$C$18:$N$18,0))/Data!$C$19) -> 1.4294899
B37: *Note: The price conversion factors are derived from price indices in line with the inflation methodology in the PCFM to reflect actuals through June sourced from Office of National Statistics i.e. ONS (Historical data - https://www.ons.gov.uk/economy/inflationandpriceindices/timeseries/l522/mm23) and the forecast from the Office of Budget Responsibility i.e. OBR (https://obr.uk/data). Please refer to chapter 2 of the Price Control Financial Handbook for more information.
B40: Allowed cost of debt %
C41: 2022 | D41: =C41+1 -> 2023 | E41: =D41+1 -> 2024 | F41: =E41+1 -> 2025 | G41: =F41+1 -> 2026 | H41: =G41+1 -> 2027 | I41: =H41+1 -> 2028
B42: SSES | E42: 0.0304 | F42: 0.0311 | G42: 0.0313 | H42: 0.0313 | I42: 0.0314
B43: NGED-EMID | E43: 0.0304 | F43: 0.0311 | G43: 0.0313 | H43: 0.0313 | I43: 0.0314
B44: UKPN-EPN | E44: 0.0304 | F44: 0.0311 | G44: 0.0313 | H44: 0.0313 | I44: 0.0314
B45: ED - excluding SSES,NGED-EMID,UKPN-EPN | E45: 0.031 | F45: 0.0317 | G45: 0.0319 | H45: 0.0319 | I45: 0.0319
B46: SHET | C46: 0.018184708 | D46: 0.015816904 | E46: 0.018016 | F46: 0.023111514 | G46: 0.02662107
B47: ET - excluding SHET | C47: 0.0205 | D47: 0.019 | E47: 0.0192 | F47: 0.0211 | G47: 0.0226
...

Sheet Content & Version Control
A1: Version control
A2: =Licensee -> SPD
A3: =Reporting_Year -> 2026
B6: Version:
B8: Submission | C8: Date submitted | D8: Changes
B9: Submission 1
B10: Submission 2
B11: Submission 3
B12: Submission 4
B13: Submission 5
B14: Submission 6
B15: Submission 7
B16: Submission 8
B17: Submission 9
B18: Submission 10
B21: R1 - RoRE
B22: R2 - Rec to Revenue and Profit
... B39: I2 - Monthly Inflation

Sheet Change log
A1: Change log
A2: =Licensee -> SPD
A3: =Reporting_Year -> 2026
A5: Version | B5: Table Reference | C5: Changes made to RFPR template | D5: Raised By
A6: V2.0 | B6: R2 - row 24 (RRt) | C6: Changed the description to add "per latest PCFM" for more clarity. Guidance document has also been amended. | D6: Ofgem
A7: V2.0 | B7: R8 - Row 21 | C7: Corrected cell references in formula | D7: Ofgem
A8: V2.0 | B8: R3 - row 116, 121, 133, 142 | C8: Changed the description to '[Input description, add additional rows as required]' | D8: Ofgem
A9: V2.0 | B9: R3 - Rows 36 and 37 | C9: Copied and rolled-over D36:D37 formula into future years | D9: Ofgem
A10: V2.0 | B10: R1 - J22:K28 and J49:K55 | C10: Corrected cell references in formula for 'cumulative' and RIIO-2 period' | D10: Ofgem
A11: V2.0 | B11: R2 - Rec to Revenue and Profit | C11: Row 103 formula corrected (was sum now difference) | D11: ESO/NGGT(TO)/NGGT(SO)/NGET(TO)
A12: V2.0 | B12: R3 - Row 194 & 196 | C12: Added formula/ corrected cell references in formula | D12: ESO/NGGT(TO)/SPT/NGET
A13: V2.0 | B13: R1 row 76 | C13: Formula in J75:K75 dragged down to populate row 76 which was blank. | D13: NGGT(SO)
A14: V2.0 | B14: R8 Row 21 | C14: Included if function because top half R8 only completed for actuals on a T+1 basis; therefore if forecast, amount should be zero | D14: WWU
A15: V2.0 | B15: R3 | C15: Formula in row 198 amended to compare to row 196 not 194 | D15: WWU/SPT
A16: V2.0 | B16: R7 - RAV | C16: Formulas in row 5 amended to reflect show that RAV totals in AIP 2021 PCFM are not actuals, therefore flag should remain as forecast until the AIP after the Reg year has passed (as was the case in RIIO-1). For example RAV value in 21/22 AIP for 21/22 was not an actual and therefore the check in row 27 should not be activated until the next regulatory year. AIP 2022 will contain the actual 21/22 RAV value and therefore a check to ensure this matches can be incorporated from 22/23 onwards. | D16: SPT
... A43: V2.0 | B43: Data M339- M367 | C43: Incorporated a new table to change values to nominal that feed into materiality check in row 95 (tax charge) | D43: Ofgem
B44: Data tab - Cell C10 | C44: Added to lookup deadband threshold values from Table 2 (M04-S332) for materiality checks for use in R8a (Rows 44-93) | D44: Ofgem
B45: Data tab - Cell C11 | C45: Added to lookup deadband threshold values from Table 3 (M04-S332) for materiality checks for use in R8a - Tax charge (Row95) | D45: Ofgem
A46: V2.0 | B46: Data D273-D274 | C46: Added in Data tab “Swap pay leg – finco back to back” in D273, and “Swap receive leg – finco back to back” in D274. | D46: Ofgem
A47: V2.0 | B47: R8a | C47: Previous version of Col I and J deleted | D47: Ofgem
A48: V2.0 | B48: R8a | C48: Deleted materiality checks from row 31 and above as it's not mandatory for licensees to explain those differences | D48: Ofgem
A49: V2.0 | B49: R8a | C49: Corrected formula in col L to look up correct cell references | D49: SPEN, ESO, NGET
A50: V2.0 | B50: R8a | C50: Removed the word 'turnover' in cells A35, A38 and A41 | D50: ESO, NGET
A51: V2.0 | B51: R8 | C51: Changed the label in cell B11 and description in cell J11 | D51: SPEN, ESO
A52: V2.0 | B52: R3 | C52: Labels are now fomula driven in cells B11 and B45 to include "repex" term only referring to GD2 | D52: SPEN
A53: V2.0 | B53: R8 - Cell J11 | C53: Comment amended to - "R8 row 11 must match with worksheet R8a row 95 minus regulatory adjustments." | D53: SPEN
A54: V2.0 | B54: R4 | C54: Added formulae/ logic to generate cumulative values in col I and J | D54: Ofgem
A55: v2.0 | B55: R6 | C55: 15/06/2023: Added in new section for reconciliation to statutory accounts: R6 cell B21: row label changed from "Total Debt per Statutory Accounts" to "Total Modelled Debt" R6 add in thirteen new rows below row 46 ("Closing regulatory net debt including forecast new debt/refinancing". These rows are headed "Conversion from Regulatory (RIIO-2) Definition of Net Debt to Statutory Net Debt" | D55: Ofgem
A56: v2.0 | B56: R5a | C56: 15/06/2023: Added in additional overwrite lines for Debt Interest Expense R5a add in five new rows below row 53. This adds in five new "Other adjustment (Overwrite)" lines above "Sub Total: "Debt Interest Expense" R5a row 59 "Sub Total: "Debt Interest Expense" formula amended to incorporate the five new rows. In Column M, changed from "=SUM(M40:M53)" to "=SUM(M40:M58)" and pasted across the row. | D56: Ofgem
A57: v2.0 | B57: R1-R10, F3-F6, I1-I2 | C57: Non-input cells have been password protected to prevent any over-writing | D57: Ofgem
... A132: v5.0 | B132: F5 - Inflation Linked Debt - BZ11:CR610; LH11:LY610; MB11:MS610; NP11:OG610 | C132: Formula amended to look up to columns I:K in Monthly Inflation | D132: Cadent

Sheet R1 - RoRE
A1: R1 - Return on Regulatory Equity (RoRE)
A2: SPD
A3: 2026
D5: Actuals | E5: Actuals | F5: Actuals | G5: Forecast | H5: Forecast
D6: 2024 | E6: 2025 | F6: 2026 | G6: 2027 | H6: 2028 | J6: Cumulative to 2026 | K6: RIIO-2 period
D7: 2023/24 | E7: 2024/25 | F7: 2025/26 | G7: 2026/27 | H7: 2027/28
B9: RoRE based on Notional Gearing
B11: Allowed Equity Return | C11: % | D11: 0.052833944 | E11: 0.055875458 | F11: 0.054475396 | G11: 0.054934037 | H11: 0.055127149 | J11: 0.054408897 | K11: 0.054675955
B12: Totex outperformance | C12: % | D12: 0.019822528 | E12: -0.0048991073 | F12: -0.034047798 | G12: -0.0070114063 | H12: -0.0089894417 | J12: -0.0069958258 | K12: -0.0074364959
A13: a | B13: Business Plan Incentive | C13: % | D13: 0 | E13: 0 | F13: 0 | G13: 0 | H13: 0 | J13: 0 | K13: 0
A14: b | B14: Time to connect ODI | C14: % | D14: 0.00041186337 | E14: 0.0009070953 | F14: 0.001496248 | G14: 0.00045670877 | H14: 0.0004338911 | J14: 0.00095090853 | K14: 0.00073445326
A15: c | B15: Broad Measure of Customer Service ODI | C15: % | D15: 0.00071118916 | E15: 0.00095759685 | F15: 0.0025988092 | G15: 0.0031937645 | H15: 0.0036045503 | J15: 0.001445636 | K15: 0.0022837232
A16: d | B16: Interruptions incentive scheme ODI | C16: % | D16: 0.003783636 | E16: 0.0034270892 | F16: 0.003835921 | G16: 0.0014340256 | H16: 0.001359793 | J16: 0.0036836428 | K16: 0.0027048318
A17: e | B17: Major connections ODI | C17: % | D17: 0 | E17: 0 | F17: 0 | G17: 0 | H17: 0 | J17: 0 | K17: 0
A18: f | B18: Consumer Vulnerability ODI | C18: % | D18: 0 | E18: 0.0020864224 | F18: 0 | G18: 0 | H18: 0.0053340468 | J18: 0.00069095267 | K18: 0.0015656723
A19: g | B19: Distribution System Operator ODI | C19: % | D19: 0.00036407346 | E19: 0.0021699295 | F19: 0.0037069544 | G19: 0.0022321641 | H19: 0.0026508034 | J19: 0.0021182679 | K19: 0.0022588539
A20: h | B20: Dig, Fix and Go ODI (ENWL only) | C20: % | D20: 0 | E20: 0 | F20: 0 | G20: 0 | H20: 0 | J20: 0 | K20: 0
A21: i | B21: Collaborative Streetworks ODI (EPN, LPN and SPN only) | C21: % | D21: 0 | E21: 0 | F21: 0 | G21: 0 | H21: 0 | J21: 0 | K21: 0
A22: i | B22: Network innovation input for RORE | C22: % | D22: -1.0134844e-05 | E22: -0.00011632229 | F22: -0.00014732784 | G22: 0 | H22: 0 | J22: -9.2749582e-05 | K22: -5.306565e-05
A23: ii | B23: Carry-over Network innovation input for RORE | C23: % | D23: 0 | E23: 0 | F23: 0 | G23: 0 | H23: 0 | J23: 0 | K23: 0
A24: iii | B24: Strategic innovation input for RORE | C24: % | D24: -1.3443164e-05 | E24: -1.3180361e-05 | F24: -3.2124823e-05 | G24: 0 | H24: 0 | J24: -1.9817299e-05 | K24: -1.1338249e-05
A25: iv | C25: % | D25: 0 | E25: 0 | F25: 0 | G25: 0 | H25: 0 | J25: 0 | K25: 0
A26: v | C26: % | D26: 0 | E26: 0 | F26: 0 | G26: 0 | H26: 0 | J26: 0 | K26: 0
A27: vi | C27: % | D27: 0 | E27: 0 | F27: 0 | G27: 0 | H27: 0 | J27: 0 | K27: 0
A28: vii | C28: % | D28: 0 | E28: 0 | F28: 0 | G28: 0 | H28: 0 | J28: 0 | K28: 0
A29: viii | C29: % | D29: 0 | E29: 0 | F29: 0 | G29: 0 | H29: 0 | J29: 0 | K29: 0
B30: Penalties and fines (Other Activities) | C30: % | D30: -0.0001930431 | E30: -0.0022823151 | F30: -2.983065e-05 | G30: 0 | H30: 0 | J30: -0.00082849146 | K30: -0.00047401226
B31: RoRE - Operational performance | C31: % | D31: 0.077710613 | E31: 0.058112666 | F31: 0.031856247 | G31: 0.055239294 | H31: 0.059520792 | J31: 0.055361421 | K31: 0.056248577
B32: Debt performance - at notional gearing | C32: % | D32: 0.081497592 | E32: 0.019637987 | F32: 0.031655826 | G32: -0.015137794 | H32: 0.0015554732 | J32: 0.043773698 | K32: 0.022230462
B33: Tax performance - at notional gearing | C33: % | D33: -0.008655186 | E33: 0.0021647027 | F33: 0.0015589628 | G33: 0.0010709869 | H33: 0.00083405212 | J33: -0.0015393781 | K33: -0.00047449089
B34: RoRE - including financing and tax | C34: % | D34: 0.15055302 | E34: 0.079915355 | F34: 0.065071036 | G34: 0.041172487 | H34: 0.061910317 | J34: 0.097595741 | K34: 0.078004549
B38: RoRE based on Actual Gearing
B40: Allowed Equity Return | C40: % | D40: 0.05539534 | E40: 0.053435011 | F40: 0.053190081 | G40: 0.056942317 | H40: 0.059365851 | J40: 0.053947737 | K40: 0.055685355
B41: Totex outperformance | C41: % | D41: 0.020783526 | E41: -0.0046851312 | F41: -0.03324446 | G41: -0.0072677295 | H41: -0.0096806359 | J41: -0.0069365304 | K41: -0.0075737847
A42: a | B42: Business Plan Incentive | C42: % | D42: 0 | E42: 0 | F42: 0 | G42: 0 | H42: 0 | J42: 0 | K42: 0
A43: b | B43: Time to connect ODI | C43: % | D43: 0.00043183055 | E43: 0.00086747651 | F43: 0.0014609449 | G43: 0.00047340515 | H43: 0.00046725279 | J43: 0.0009428488 | K43: 0.00074801236
A44: c | B44: Broad Measure of Customer Service ODI | C44: % | D44: 0.00074566769 | E44: 0.00091577232 | F44: 0.0025374918 | G44: 0.0033105222 | H44: 0.0038817025 | J44: 0.0014333831 | K44: 0.0023258842
A45: d | B45: Interruptions incentive scheme ODI | C45: % | D45: 0.0039670671 | E45: 0.0032774058 | F45: 0.0037454147 | G45: 0.0014864507 | H45: 0.0014643469 | J45: 0.0036524209 | K45: 0.002754767
A46: e | B46: Major connections ODI | C46: % | D46: 0 | E46: 0 | F46: 0 | G46: 0 | H46: 0 | J46: 0 | K46: 0
A47: f | B47: Consumer Vulnerability ODI | C47: % | D47: 0 | E47: 0.0019952946 | F47: 0 | G47: 0 | H47: 0.0057441793 | J47: 0.00068509628 | K47: 0.001594577
...

Sheet R2 - Rec to Revenue and Profit
A1: R2 - Reconciliation to Revenue and Profit
A2: SPD
A3: 2026
E5: Actuals | F5: Actuals | G5: Actuals | H5: Forecast | I5: Forecast
E6: 2024 | F6: 2025 | G6: 2026 | H6: 2027 | I6: 2028
E7: 2023/24 | F7: 2024/25 | G7: 2025/26 | H7: 2026/27 | I7: 2027/28
B9: Reconciliation: Regulated Network Revenue to Accounts
B11: Allowed Revenue - per latest published PCFM
B13: Calculated revenue (as published) | C13: Rt* x PIt* / PI2020/21 | D13: £m nominal | E13: 560.12362 | F13: 529.53155 | G13: 509.75672 | H13: 0 | I13: 0
B14: AIP adjustment term (as published)- not applicable to ED sector | C14: ADJt* | D14: £m nominal | E14: 0 | F14: 0 | G14: 0 | H14: 0 | I14: 0
B15: Calculated revenue | D15: £m nominal | E15: 560.12362 | F15: 529.53155 | G15: 509.75672 | H15: 0 | I15: 0
B16: Legacy Allowed Revenue | C16: LARt | D16: £m nominal | E16: 19.205823 | F16: 43.769864 | G16: 1.1013779 | H16: 0 | I16: 0
B17: K Correction Factor | C17: Kt | D17: £m nominal | E17: 8.9864179 | F17: 48.689402 | G17: 24.480526 | H17: 0 | I17: 0
B18: Forecasting penalty (ED only) | C18: FPt | D18: £m nominal | E18: 0 | F18: 0 | G18: 0 | H18: 0 | I18: 0
B19: Allowed Network Revenue | C19: ARt | D19: £m nominal | E19: 588.31586 | F19: 621.99082 | G19: 535.33862 | H19: 0 | I19: 0
B21: (Under) / Over recovery | D21: £m nominal | E21: -45.370153 | F21: -22.608472 | G21: -53.915845 | H21: 0 | I21: 0
B25: Collected Regulated Network Revenue (per latest PCFM) | C25: RRt | D25: £m nominal | E25: 542.94571 | F25: 599.38235 | G25: 481.42277 | H25: 0 | I25: 0
B27: Other Turnover Items
B28: Strategic Innovation Fund (SIF) payments received from TO | D28: £m nominal | E28: 0 | F28: 0 | G28: 0 | H28: 0 | I28: 0
B29: Legacy Metering Equipment charges | D29: £m nominal | E29: 6.7675994 | F29: 6.430054 | G29: 4.8595732 | H29: 0 | I29: 0
B30: Directly Remunerated Services revenue | D30: £m nominal | E30: 0 | F30: 0 | G30: 0 | H30: 0 | I30: 0
B31: Network Asset Secondary Deliverables incentive/penalty | D31: £m nominal | E31: 0 | F31: 0 | G31: 0 | H31: 0 | I31: 0
B32: Charging outside the Distribution Services Area (Out of Area Charges) | D32: £m nominal | E32: 0 | F32: 0 | G32: 0 | H32: 0 | I32: 0
B33: De Minimis Business of the licensee | D33: £m nominal | E33: 0 | F33: 0 | G33: 0 | H33: 0 | I33: 0
B34: Other consented activities | D34: £m nominal | E34: 0 | F34: 0 | G34: 0 | H34: 0 | I34: 0
B35: Data Services revenue | D35: £m nominal | E35: 0 | F35: 0 | G35: 0 | H35: 0 | I35: 0
B36: [Input description, add additional rows as required] | D36: £m nominal | E36: 24.3 | F36: 23.4 | G36: 24.360911 | H36: 0 | I36: 0
B37: Total Other Turnover Items | D37: £m nominal | E37: 31.067599 | F37: 29.830054 | G37: 29.220485 | H37: 0 | I37: 0
B39: Other adjustments - please list
B40: [Input description] | D40: £m nominal | E40: 0.87915358 | F40: 0.8940984 | G40: 0.90680887 | H40: 0 | I40: 0
B41: [Input description] | D41: £m nominal | E41: 0 | F41: 0 | G41: 0 | H41: 0 | I41: 0
B42: [Input description] | D42: £m nominal | E42: 0 | F42: 0 | G42: 0 | H42: 0 | I42: 0
B43: [Input description] | D43: £m nominal | E43: 0 | F43: 0 | G43: 0 | H43: 0 | I43: 0
B44: [Input description] | D44: £m nominal | E44: 0 | F44: 0 | G44: 0 | H44: 0 | I44: 0
B45: [Input description] | D45: £m nominal | E45: 0 | F45: 0 | G45: 0 | H45: 0 | I45: 0
B46: [Input description] | D46: £m nominal | E46: 0 | F46: 0 | G46: 0 | H46: 0 | I46: 0
B47: [Input description] | D47: £m nominal | E47: 0 | F47: 0 | G47: 0 | H47: 0 | I47: 0
B48: [Input description] | D48: £m nominal | E48: 0 | F48: 0 | G48: 0 | H48: 0 | I48: 0
B49: [Input description] | D49: £m nominal | E49: 0 | F49: 0 | G49: 0 | H49: 0 | I49: 0
B50: [Input description] | D50: £m nominal | E50: 0 | F50: 0 | G50: 0 | H50: 0 | I50: 0
...

Sheet R3 - Totex - Reconciliation
A1: R3 - Totex & Reconciliation
A2: SPD
A3: 2026
D5: Actuals | E5: Actuals | F5: Actuals | G5: Forecast | H5: Forecast
D6: 2024 | E6: 2025 | F6: 2026 | G6: 2027 | H6: 2028 | I6: Cumulative to 2026 | J6: RIIO-2 period
D7: 2023/24 | E7: 2024/25 | F7: 2025/26 | G7: 2026/27 | H7: 2027/28
B8: Totex per the latest PCFM
B9: In this section, rows 13-99 do not apply to ESO
B11: Capitalisation 1 totex
B13: Latest Totex actuals/forecast | C13: £m 20/21 | D13: 225.25968 | E13: 269.76233 | F13: 294.84991 | G13: 251.59527 | H13: 249.73494 | I13: 789.87193 | J13: 1291.2021
B14: Totex allowance | C14: £m 20/21 | D14: 254.53846 | E14: 263.38439 | F14: 247.58863 | G14: 248.89374 | H14: 244.28334 | I14: 765.51148 | J14: 1258.6886
B15: Totex out(under)performance | C15: £m 20/21 | D15: 29.278781 | E15: -6.3779381 | F15: -47.261284 | G15: -2.7015356 | H15: -5.4516038 | I15: -24.360441 | J15: -32.51358
B17: Funding Adjustment Rate (often referred to as 'sharing factor') | C17: % | D17: 0.5 | E17: 0.5 | F17: 0.5 | G17: 0.5 | H17: 0.5
B19: Customer share of out(under) performance | C19: £m 20/21 | D19: 14.639391 | E19: -3.188969 | F19: -23.630642 | G19: -1.3507678 | H19: -2.7258019 | I19: -12.18022 | J19: -16.25679
B20: NWO share of performance | C20: £m 20/21 | D20: 14.639391 | E20: -3.188969 | F20: -23.630642 | G20: -1.3507678 | H20: -2.7258019 | I20: -12.18022 | J20: -16.25679
B22: Enduring Value adjustments to Totex performance
B23: [Cross Price Control] | C23: £m 20/21 | D23: 0 | E23: 0 | F23: 0 | G23: 0 | H23: 0 | I23: 0 | J23: 0
B24: [other Enduring Value adjustment] | C24: £m 20/21 | D24: 0 | E24: 0 | F24: 0 | G24: 0 | H24: 0 | I24: 0 | J24: 0
B25: [other Enduring Value adjustment] | C25: £m 20/21 | D25: 0 | E25: 0 | F25: 0 | G25: 0 | H25: 0 | I25: 0 | J25: 0
B26: [other Enduring Value adjustment] | C26: £m 20/21 | D26: 0 | E26: 0 | F26: 0 | G26: 0 | H26: 0 | I26: 0 | J26: 0
B27: [other Enduring Value adjustment] | C27: £m 20/21 | D27: 0 | E27: 0 | F27: 0 | G27: 0 | H27: 0 | I27: 0 | J27: 0
B28: [other Enduring Value adjustment] | C28: £m 20/21 | D28: 0 | E28: 0 | F28: 0 | G28: 0 | H28: 0 | I28: 0 | J28: 0
B29: [other Enduring Value adjustment] | C29: £m 20/21 | D29: 0 | E29: 0 | F29: 0 | G29: 0 | H29: 0 | I29: 0 | J29: 0
B30: Total enduring value adjustments | C30: £m 20/21 | D30: 0 | E30: 0 | F30: 0 | G30: 0 | H30: 0 | I30: 0 | J30: 0
B32: Enduring Value adjustments (UIOLI)
B33: [Cross Price Control] | C33: £m 20/21 | D33: 0 | E33: 0 | F33: 0 | G33: 0 | H33: 0 | I33: 0 | J33: 0
B34: [other Enduring Value adjustment] | C34: £m 20/21 | D34: 0 | E34: 0 | F34: 0 | G34: 0 | H34: 0 | I34: 0 | J34: 0
B35: Total enduring value adjustments | C35: £m 20/21 | D35: 0 | E35: 0 | F35: 0 | G35: 0 | H35: 0 | I35: 0 | J35: 0
B37: Enduring Value: Customer share of performance | C37: £m 20/21 | D37: 0 | E37: 0 | F37: 0 | G37: 0 | H37: 0 | I37: 0 | J37: 0
B38: Enduring Value: NWO share of performance | C38: £m 20/21 | D38: 0 | E38: 0 | F38: 0 | G38: 0 | H38: 0 | I38: 0 | J38: 0
B40: Total out(under) performance (including enduring value adjustments)
B41: Customer share of out(under) performance | C41: £m 20/21 | D41: 14.639391 | E41: -3.188969 | F41: -23.630642 | G41: -1.3507678 | H41: -2.7258019 | I41: -12.18022 | J41: -16.25679
B42: NWO share of performance | C42: £m 20/21 | D42: 14.639391 | E42: -3.188969 | F42: -23.630642 | G42: -1.3507678 | H42: -2.7258019 | I42: -12.18022 | J42: -16.25679
B43: Total out (under) performance | C43: £m 20/21 | D43: 29.278781 | E43: -6.3779381 | F43: -47.261284 | G43: -2.7015356 | H43: -5.4516038 | I43: -24.360441 | J43: -32.51358
B45: Capitalisation 2 totex
B47: Latest Totex actuals/forecast | C47: £m 20/21 | D47: 39.241128 | E47: 61.159961 | F47: 63.331732 | G47: 91.506025 | H47: 91.435619 | I47: 163.73282 | J47: 346.67446
B48: Totex allowance | C48: £m 20/21 | D48: 40.743351 | E48: 59.737545 | F48: 53.977452 | G48: 81.925937 | H48: 80.312664 | I48: 154.45835 | J48: 316.69695
B49: Totex out(under)performance | C49: £m 20/21 | D49: 1.5022236 | E49: -1.4224166 | F49: -9.3542795 | G49: -9.5800875 | H49: -11.122955 | I49: -9.2744724 | J49: -29.977515
B51: Funding Adjustment Rate (often referred to as 'sharing factor') | C51: % | D51: 0.5 | E51: 0.5 | F51: 0.5 | G51: 0.5 | H51: 0.5
B53: Customer share of out(under) performance | C53: £m 20/21 | D53: 0.75111181 | E53: -0.71120828 | F53: -4.6771397 | G53: -4.7900438 | H53: -5.5614774 | I53: -4.6372362 | J53: -14.988757
...

Sheet R4 - Incentives and Other Rev
A1: R4 - Incentives and Other Revenue
A2: SPD
A3: 2026
D5: Actuals | E5: Actuals | F5: Actuals | G5: Forecast | H5: Forecast | I5: Forecast
D6: 2024 | E6: 2025 | F6: 2026 | G6: 2027 | H6: 2028 | I6: Cumulative to 2026 | J6: RIIO-2 period
D7: 2023/24 | E7: 2024/25 | F7: 2025/26 | G7: 2026/27 | H7: 2027/28
B8: Output Incentives (Post Tax)
A12: a | B12: Business Plan Incentive (per latest PCFM company-specific Input Sheet) | C12: £m 20/21 | D12: 0 | E12: 0 | F12: 0 | G12: 0 | H12: 0 | I12: 0 | J12: 0
B13: Output Incentives (per latest PCFM company-specific Input Sheet)
A14: b | B14: Time to connect ODI | C14: £m 20/21 | D14: 0.31977679 | E14: 0.7221382 | F14: 1.244 | G14: 0.4 | H14: 0.4 | I14: 2.285915 | J14: 3.085915
A15: c | B15: Broad Measure of Customer Service ODI | C15: £m 20/21 | D15: 0.55217773 | E15: 0.76234247 | F15: 2.1606837 | G15: 2.7972 | H15: 3.323 | I15: 3.4752039 | J15: 9.5954039
A16: d | B16: Interruptions incentive scheme ODI | C16: £m 20/21 | D16: 2.9376707 | E16: 2.7283044 | F16: 3.1892345 | G16: 1.255965 | H16: 1.25358 | I16: 8.8552096 | J16: 11.364755
A17: e | B17: Major connections ODI | C17: £m 20/21 | D17: 0 | E17: 0 | F17: 0 | G17: 0 | H17: 0 | I17: 0 | J17: 0
A18: f | B18: Consumer Vulnerability ODI | C18: £m 20/21 | D18: 0 | E18: 1.661 | F18: 0 | G18: 0 | H18: 4.9174061 | I18: 1.661 | J18: 6.5784061
A19: g | B19: Distribution System Operator ODI | C19: £m 20/21 | D19: 0.282672 | E19: 1.72748 | F19: 3.08201 | G19: 1.955 | H19: 2.44375 | I19: 5.092162 | J19: 9.490912
A20: h | B20: Dig, Fix and Go ODI (ENWL only) | C20: £m 20/21 | D20: 0 | E20: 0 | F20: 0 | G20: 0 | H20: 0 | I20: 0 | J20: 0
A21: i | B21: Collaborative Streetworks ODI (EPN, LPN and SPN only) | C21: £m 20/21 | D21: 0 | E21: 0 | F21: 0 | G21: 0 | H21: 0 | I21: 0 | J21: 0
B22: Earned Output Incentive revenue as per PCFM | C22: £m 20/21 | D22: 4.0922972 | E22: 7.601265 | F22: 9.6759283 | G22: 6.408165 | H22: 12.337736 | I22: 21.369491 | J22: 40.115392
B25: Additional Commentary
A26: a
A27: b
A28: c
A29: d
A30: e
A31: f
A32: g
A33: h
A34: i
B36: Other Revenue Allowances (ORAt) - Post Tax
B38: Innovation
A40: i | B40: Network Innovation Allowance | C40: NIAt
B41: Total NIA Expenditure | C41: £m 20/21 | D41: 0.078688423 | E41: 0.9260413 | F41: 1.2249028 | G41: 0 | H41: 0 | I41: 2.2296325 | J41: 2.2296325 | K41: Does not apply to NGGT SO
B42: Unrecoverable Expenditure (eg not conforming to technical requirements) | C42: £m 20/21 | D42: 0 | E42: 0 | F42: 0 | G42: 0 | H42: 0 | I42: 0 | J42: 0
B43: Company Compulsory Contribution (including % contribution funded by licensee) | C43: £m 20/21 | D43: 0.0078688423 | E43: 0.09260413 | F43: 0.12249028 | G43: 0 | H43: 0 | I43: 0.22296325 | J43: 0.22296325
B44: Allowed NIA adjustment | C44: £m 20/21 | D44: 0.070819581 | E44: 0.83343717 | F44: 1.1024125 | G44: 0 | H44: 0 | I44: 2.0066693 | J44: 2.0066693
B45: Network innovation input for RORE | C45: £m 20/21 | D45: 0.0078688423 | E45: 0.09260413 | F45: 0.12249028 | G45: 0 | H45: 0 | I45: 0.22296325 | J45: 0.22296325
A47: ii | B47: Carry Over RIIO-1 Network Innovation Allowance | C47: CNIAt
B48: Eligible NIA expenditure and Bid Preparation costs | C48: £m 20/21 | D48: 0.93376717 | K48: Does not apply to NGGT SO
B49: Unrecoverable Expenditure (eg not conforming to technical requirements) | C49: £m 20/21 | D49: 0
B50: Company Compulsory Contribution (including % contribution funded by licensee) | C50: £m 20/21 | D50: 0
...

Sheet R5 - Financing
A1: R5 - Financing
A2: SPD
A3: 2026
D5: Actuals | E5: Actuals | F5: Actuals | G5: Forecast | H5: Forecast | I5: Forecast
D6: 2024 | E6: 2025 | F6: 2026 | G6: 2027 | H6: 2028 | I6: Cumulative to 2026 | J6: RIIO-2 period
D7: 2023/24 | E7: 2024/25 | F7: 2025/26 | G7: 2026/27 | H7: 2027/28
B9: Net Interest Per Statutory Accounts | C9: £m nominal | D9: 80.859411 | E9: 83.824359 | F9: 87.956832 | G9: 77.396086 | H9: 69.070248
B11: Reconciliation with Statutory Accounts
B12: Interest not qualifying for corporation tax relief | C12: £m nominal | D12: 0 | E12: 0 | F12: 0 | G12: 0 | H12: 0
B13: Fair value adjustments (e.g. losses on derivatives) | C13: £m nominal | D13: 0 | E13: 0 | F13: 0 | G13: 0 | H13: 0
B14: Dividends on preference shares | C14: £m nominal | D14: 0 | E14: 0 | F14: 0 | G14: 0 | H14: 0
B15: Costs of early redemption on long term debt | C15: £m nominal | D15: 0 | E15: 0 | F15: 0 | G15: 0 | H15: 0
B16: Swap Termination Costs paid | C16: £m nominal | D16: 0 | E16: 0 | F16: 0 | G16: 0 | H16: 0
B17: Movements relating to pension fund liabilities reported within net interest | C17: £m nominal | D17: 0 | E17: 0 | F17: 0 | G17: 0 | H17: 0
B18: Debt issuance expenses (inc. amortisation to discounts that had previously benefitted from a tax deduction) | C18: £m nominal | D18: 0 | E18: 0 | F18: 0 | G18: 0 | H18: 0
B19: Commitment fees for undrawn liquidity backup lines | C19: £m nominal | D19: -0.77452055 | E19: -2.722802 | F19: -2.96625 | G19: 0 | H19: 0
B20: Other Adjustments [please specify] | C20: £m nominal | D20: -2.2 | E20: -2.3 | F20: -2.3 | G20: 0 | H20: 0
B21: Other Adjustments [please specify] | C21: £m nominal | D21: 0 | E21: 0 | F21: 0 | G21: 0 | H21: 0
B22: Other Adjustments [please specify] | C22: £m nominal | D22: 0 | E22: 0 | F22: 0 | G22: 0 | H22: 0
B23: Other Adjustments [please specify] | C23: £m nominal | D23: 0 | E23: 0 | F23: 0 | G23: 0 | H23: 0
... B33: Intra-company Net Interest | C33: £m nominal | D33: 57.32239 | E33: 58.239057 | F33: 62.128082 | G33: 102.12873 | H33: 105.11004
D34: OK | E34: OK | F34: OK | G34: OK | H34: OK
B36: Memo: Net interest (RIIO-2) Definition that relates to non-cash principal inflation accretion on bonds and loans | C36: £m nominal | D36: 0 | E36: 0 | F36: 0 | G36: 0 | H36: 0
B38: Inflation component of nominal finance cost | C38: £m nominal | D38: 113.75546 | E38: 50.324626 | F38: 64.517653 | G38: 23.706452 | H38: 41.774008
B40: In-period real finance cost (reg terms) at actual gearing | C40: £m nominal | D40: -35.870574 | E40: 28.476931 | F40: 18.172929 | G40: 78.422279 | H40: 63.336034
B42: Combined RPI-CPIH real to nominal prices conversion | C42: Factor | D42: 1.2806227 | E42: 1.3217926 | F42: 1.3718375 | G42: 1.3888946 | H42: 1.4165978
B44: In-period real finance cost (reg terms) at actual gearing | C44: £m 20/21 | D44: -28.01026 | E44: 21.544175 | F44: 13.247145 | G44: 56.463808 | H44: 44.709962 | I44: 6.7810602 | J44: 107.95483
B46: Adjustments to be applied to Assumed Finance cost for performance assessment
B47: Add back Debt Issuance expenses | C47: £m nominal | D47: 0 | E47: 0 | F47: 0 | G47: 0 | H47: 0 | I47: 0 | J47: 0
B48: New/refinanced debt issuance expenses | C48: £m nominal | D48: 0 | E48: 0 | F48: 0 | G48: 0 | H48: 0 | I48: 0 | J48: 0
B49: Costs of early redemption on long term debt (excluding exceptional costs of buy backs associated with M&A activity) | C49: £m nominal | D49: 0 | E49: 0 | F49: 0 | G49: 0 | H49: 0 | I49: 0 | J49: 0
B50: Add accrual for inflation accretion on index-linked swaps (if applicable) | C50: £m nominal | D50: 0 | E50: 0 | F50: 0 | G50: 0 | H50: 0 | I50: 0 | J50: 0
B51: Other Adjustments [please specify] | C51: £m nominal | D51: 0 | E51: 0 | F51: 0 | G51: 0 | H51: 0 | I51: 0 | J51: 0
B52: Other Adjustments [please specify] | C52: £m nominal | D52: 0 | E52: 0 | F52: 0 | G52: 0 | H52: 0 | I52: 0 | J52: 0
B53: Other Adjustments [please specify] | C53: £m nominal | D53: 0 | E53: 0 | F53: 0 | G53: 0 | H53: 0 | I53: 0 | J53: 0
B54: Other Adjustments [please specify] | C54: £m nominal | D54: 0 | E54: 0 | F54: 0 | G54: 0 | H54: 0 | I54: 0 | J54: 0
B56: Total Adjustments to be applied for performance assessment (at actual gearing) | C56: £m nominal | D56: 0 | E56: 0 | F56: 0 | G56: 0 | H56: 0 | I56: 0 | J56: 0
B57: Total Adjustments to be applied for performance assessment (at actual gearing) | C57: £m 20/21 | D57: 0 | E57: 0 | F57: 0 | G57: 0 | H57: 0 | I57: 0 | J57: 0
B60: Cost of Debt out(under)performance at notional gearing
B61: Performance against allowance is impacted by deviating from notional levels of gearing
...

Sheet R6 - Net Debt
A1: R6 - Net Debt
A2: SPD
A3: 2026
D5: Actuals | E5: Actuals | F5: Actuals | G5: Forecast | H5: Forecast
D6: 2024 | E6: 2025 | F6: 2026 | G6: 2027 | H6: 2028
D7: 2023/24 | E7: 2024/25 | F7: 2025/26 | G7: 2026/27 | H7: 2027/28
B9: Opening Cash, short term deposits and overdrafts (per Balance Sheet) | C9: £m nominal | D9: 0 | E9: -2.6 | F9: -2.3 | G9: 0 | H9: 0
B11: Closing Cash, short term deposits and overdrafts (per Balance Sheet) | C11: £m nominal | D11: -2.6 | E11: -2.3 | F11: 0 | G11: 0 | H11: 0
B12: Bonds | C12: £m nominal | D12: 350 | E12: 350 | F12: 350 | G12: 0 | H12: 0
B13: External Loans | C13: £m nominal | D13: 0 | E13: 0 | F13: 0 | G13: 0 | H13: 0
B14: Private Placements | C14: £m nominal | D14: 0 | E14: 0 | F14: 0 | G14: 0 | H14: 0
B15: Group company loans (licensee lender) | C15: £m nominal | D15: -136.92568 | E15: -82.3 | F15: -54.6 | G15: 0 | H15: 0
B16: Group company loans (licensee borrower) | C16: £m nominal | D16: 1320 | E16: 1330 | F16: 1515 | G16: 1515 | H16: 1475
B17: Group Loans from Finco back to back with finco bond issue | C17: £m nominal | D17: 0 | E17: 0 | F17: 0 | G17: 0 | H17: 0
B18: Swaps Pay Leg | C18: £m nominal | D18: 0 | E18: 0 | F18: 0 | G18: 0 | H18: 0
B19: Swaps Receive Leg | C19: £m nominal | D19: 0 | E19: 0 | F19: 0 | G19: 0 | H19: 0
B20: Other | C20: £m nominal | D20: 0 | E20: 0 | F20: 0 | G20: 0 | H20: 0
B21: Total Modelled Debt | C21: £m nominal | D21: 1530.4743 | E21: 1595.4 | F21: 1810.4 | G21: 1515 | H21: 1475
B23: Conversion to Regulatory (RIIO-2) Definition of Net Debt
B24: Unamortised Issue Costs | C24: £m nominal | D24: 0 | E24: 0 | F24: 0 | G24: 0 | H24: 0
B25: Fixed asset investments not readily convertible to cash | C25: £m nominal | D25: 0 | E25: 0 | F25: 0 | G25: 0 | H25: 0
B26: Preference shares | C26: £m nominal | D26: 0 | E26: 0 | F26: 0 | G26: 0 | H26: 0
B27: Long term loans (Not for benefit of regulated business or distribution in nature) | C27: £m nominal | D27: 0 | E27: 0 | F27: 0 | G27: 0 | H27: 0
B28: Discounts (premiums) for fixed rate debt | C28: £m nominal | D28: 0 | E28: 0 | F28: 0 | G28: 0 | H28: 0
B29: 1. [Insert adjustment as necessary] | C29: £m nominal | D29: 0 | E29: 0 | F29: 0 | G29: 0 | H29: 0
B30: 2. [Insert adjustment as necessary] | C30: £m nominal | D30: 0 | E30: 0 | F30: 0 | G30: 0 | H30: 0
B31: 3. [Insert adjustment as necessary] | C31: £m nominal | D31: 0 | E31: 0 | F31: 0 | G31: 0 | H31: 0
B32: 4. [Insert adjustment as necessary] | C32: £m nominal | D32: 0 | E32: 0 | F32: 0 | G32: 0 | H32: 0
B33: 5. [Insert adjustment as necessary] | C33: £m nominal | D33: 0 | E33: 0 | F33: 0 | G33: 0 | H33: 0
B34: 6. [Insert adjustment as necessary] | C34: £m nominal | D34: 0 | E34: 0 | F34: 0 | G34: 0 | H34: 0
B35: 7. [Insert adjustment as necessary] | C35: £m nominal | D35: 0 | E35: 0 | F35: 0 | G35: 0 | H35: 0
... B42: Regulatory Net Debt including forecast new debt/refinancing | C42: £m nominal | D42: 1530.4743 | E42: 1595.4 | F42: 1810.4 | G42: 2002.8234 | H42: 2185.8441
D43: OK | E43: OK | F43: OK | G43: OK | H43: OK
B45: Opening Regulatory Net Debt including forecast new debt/refinancing | C45: £m nominal | D45: 1600.5 | E45: 1530.4743 | F45: 1595.4 | G45: 1810.4 | H45: 2002.8234
B46: Closing Regulatory Net Debt including forecast new debt/refinancing | C46: £m nominal | D46: 1530.4743 | E46: 1595.4 | F46: 1810.4 | G46: 2002.8234 | H46: 2185.8441
B48: Conversion from Regulatory (RIIO-2) Definition of Net Debt to Statutory Net Debt
B49: 1. Fair value adjustments | C49: £m nominal | D49: 0 | E49: 0 | F49: 0 | G49: 0 | H49: 0
B50: 2. Accrued interest | C50: £m nominal | D50: 33.1 | E50: 32.6 | F50: 32.8 | G50: 0 | H50: 0
B51: 3. Derivatives - other than cross currency swaps | C51: £m nominal | D51: 0 | E51: 0 | F51: 0 | G51: 0 | H51: 0
B52: 4. Balancing value on cross currency swaps | C52: £m nominal | D52: 0 | E52: 0 | F52: 0 | G52: 0 | H52: 0
...

Sheet R7 - RAV
A1: R7 - Regulatory Asset Value (RAV)
A2: SPD
A3: 2026
F5: Actuals | G5: Actuals | H5: Actuals | I5: Forecast | J5: Forecast
F6: 2024 | G6: 2025 | H6: 2026 | I6: 2027 | J6: 2028
F7: 2023/24 | G7: 2024/25 | H7: 2025/26 | I7: 2026/27 | J7: 2027/28
B9: RAV per latest PCFM
B12: Closing RAV per latest PCFM | E12: £m 20/21 | F12: 1995.6512 | G12: 2066.9602 | H12: 2175.653 | I12: 2294.0993 | J12: 2410.7236
B15: Opening RAV (before transfers) | E15: £m 20/21 | F15: 1962.6865 | G15: 1995.6512 | H15: 2066.9602 | I15: 2175.653 | J15: 2294.0993
B16: Transfers | E16: £m 20/21
B17: Opening RAV (after transfers) | E17: £m 20/21 | F17: 1962.6865 | G17: 1995.6512 | H17: 2066.9602 | I17: 2175.653 | J17: 2294.0993
B18: Net additions (after disposals) | E18: £m 20/21 | F18: 201.92275 | G18: 238.18492 | H18: 239.70989 | I18: 248.87974 | J18: 245.89942
B19: Net additions (after disposals) - enduring value adjustment | E19: £m 20/21 | F19: 0 | G19: 0 | H19: 0 | I19: 0 | J19: 0
B20: Total Net Additions | E20: £m 20/21 | F20: 201.92275 | G20: 238.18492 | H20: 239.70989 | I20: 248.87974 | J20: 245.89942
B21: Depreciation | E21: £m 20/21 | F21: -168.95804 | G21: -166.87593 | H21: -131.01708 | I21: -130.43347 | J21: -129.27508
B22: Depreciation - enduring value adjustment | E22: £m 20/21 | F22: 0 | G22: 0 | H22: 0 | I22: 0 | J22: 0
B23: Total Depreciation | E23: £m 20/21 | F23: -168.95804 | G23: -166.87593 | H23: -131.01708 | I23: -130.43347 | J23: -129.27508
B24: Adjusted Closing RAV | E24: £m 20/21 | F24: 1995.6512 | G24: 2066.9602 | H24: 2175.653 | I24: 2294.0993 | J24: 2410.7236
B26: Total enduring value and other adjustments | E26: £m 20/21 | F26: 0 | G26: 0 | H26: 0 | I26: 0 | J26: 0
B27: CHECK | F27: TRUE | G27: TRUE | H27: TRUE | I27: NA | J27: NA
B30: Index for Opening RAV conversion to nominal in yr 1 | E30: Index | F30: 1.2567228
B32: Adjusted Closing RAV | E32: £m nominal | F32: 2595.6907 | G32: 2777.7066 | H32: 2991.568 | I32: 3217.8066 | J32: 3446.1051
B34: Cost of debt | E34: annual real % | F34: 0.031 | G34: 0.0317 | H34: 0.0319 | I34: 0.0319 | J34: 0.0319
B35: Cost of equity | E35: annual real % | F35: 0.052833944 | G35: 0.055875458 | H35: 0.054475396 | I35: 0.054934037 | J35: 0.055127149
B36: Notional gearing | E36: % | F36: 0.6 | G36: 0.6 | H36: 0.6 | I36: 0.6 | J36: 0.6
B37: Vanilla WACC | E37: annual real % | F37: 0.039733578 | G37: 0.041370183 | H37: 0.040930158 | I37: 0.041113615 | J37: 0.04119086
B39: NPV-neutral debt element of RAV | E39: £m 20/21 | F39: 1164.6221 | G39: 1194.1494 | H39: 1247.1195 | I39: 1313.7475 | J39: 1382.8355
B40: NPV-neutral equity element of RAV | E40: £m 20/21 | F40: 776.41473 | G40: 796.0996 | H40: 831.41299 | I40: 875.83165 | J40: 921.89032
B41: NPV-neutral RAV return base | E41: £m 20/21 | F41: 1941.0368 | G41: 1990.249 | H41: 2078.5325 | I41: 2189.5791 | J41: 2304.7258
B43: Debt Return on RAV | E43: £m 20/21 | F43: 36.103285 | G43: 37.854536 | H43: 39.783111 | I43: 41.908545 | J43: 44.112452
B44: Equity Return on RAV | E44: £m 20/21 | F44: 41.021052 | G44: 44.48243 | H44: 45.291552 | I44: 48.112968 | J44: 50.821185
B45: Total return on RAV | E45: £m 20/21 | F45: 77.124337 | G45: 82.336965 | H45: 85.074663 | I45: 90.021513 | J45: 94.933637

Sheet R8 - Tax
A1: R8 - Tax
A2: SPD
A3: 2026
E5: Actuals | F5: Actuals | G5: Forecast | H5: Forecast | I5: Forecast
E6: 2024 | F6: 2025 | G6: 2026 | H6: 2027 | I6: 2028
E7: 2023/24 | F7: 2024/25 | G7: 2025/26 | H7: 2026/27 | I7: 2027/28
B8: The CT600 will not have been submitted for the current reporting year.
B9: It is assumed the current tax charge per the statutory accounts will equal the tax liability in the forthcoming CT600, where this is not the case the licensee should provide an explanation in the commentary of the variance.
B11: Tax liability per latest submitted CT600 (pre-group relief) after Regulatory Adjustments | D11: £m nominal | E11: 16.196408 | F11: 11.245932 | G11: 0 | H11: 0 | I11: 0
B15: Adjustments to remove non-regulated tax liability
B16: Tax on non-regulated activities | D16: £m nominal | E16: 6.3569161 | F16: 10.326302 | G16: 0 | H16: 0 | I16: 0
B17: Metering | D17: £m nominal | E17: 0 | F17: 0 | G17: 0 | H17: 0 | I17: 0
B18: De-minimus and Other activities | D18: £m nominal | E18: 0 | F18: 0 | G18: 0 | H18: 0 | I18: 0
B19: Excluded services | D19: £m nominal | E19: 0 | F19: 0 | G19: 0 | H19: 0 | I19: 0
B20: Non-regulated tax | D20: £m nominal | E20: 6.3569161 | F20: 10.326302 | G20: 0 | H20: 0 | I20: 0
B22: Other adjustments
B23: Tax on Other Revenue Allowances - Innovation and Incentives only | D23: £m nominal | E23: 0.0078144932 | F23: 0.045424288 | G23: 0 | H23: 0 | I23: 0
B24: Collected revenue adjustment ('k') | D24: £m nominal | E24: 2.2466045 | F24: 12.17235 | G24: 0 | H24: 0 | I24: 0
B25: Pension - timing adjustment | D25: £m nominal | E25: 0 | F25: 0 | G25: 0 | H25: 0 | I25: 0
B26: Pension - disallowed contributions | D26: £m nominal | E26: 0 | F26: 0 | G26: 0 | H26: 0 | I26: 0
B27: Tax on derivatives not disregarded | D27: £m nominal | E27: 0 | F27: 0 | G27: 0 | H27: 0 | I27: 0
B28: Legacy revenues | D28: £m nominal | E28: 4.8014557 | F28: 10.942466 | G28: 0 | H28: 0 | I28: 0
B29: Timing | D29: £m nominal | E29: -11.342538 | F29: -22.252118 | G29: 0 | H29: 0 | I29: 0
B30: [Insert adjustment as necessary] | D30: £m nominal | E30: 0 | F30: 0 | G30: 0 | H30: 0 | I30: 0
B31: [Insert adjustment as necessary] | D31: £m nominal | E31: 0 | F31: 0 | G31: 0 | H31: 0 | I31: 0
B32: [Insert new rows here as necessary] | D32: £m nominal | E32: 0 | F32: 0 | G32: 0 | H32: 0 | I32: 0
B33: Total other adjustments | D33: £m nominal | E33: -4.2866635 | F33: 0.90812265 | G33: 0 | H33: 0 | I33: 0
B35: Forecast regulated tax liability (including impact of any enduring value adjustments) | D35: £m nominal | E35: 0 | F35: 0 | G35: 0 | H35: 0 | I35: 0
... B40: Adjusted/forecast regulated tax liability | D40: £m 20/21 | E40: 11.030693 | F40: 0.0087060368 | G40: 0 | H40: 0 | I40: 0
B42: Tax out(under)performance at notional gearing
B43: Performance against allowance is impacted by deviating from notional levels of gearing
B45: Notional Gearing | D45: % | E45: 0.6 | F45: 0.6 | G45: 0.6 | H45: 0.6 | I45: 0.6
B46: Actual Gearing | D46: % | E46: 0.61849539 | F46: 0.58173147 | G46: 0.59033417 | H46: 0.61410747 | I46: 0.62855987
B48: Adjusted/forecast regulated tax liability | D48: £m nominal | E48: 14.126156 | F48: 0.011507575 | G48: 0 | H48: 0 | I48: 0
B49: Adjustment to regulatory tax cost relating to variance from notional gearing | D49: £m nominal | E49: -0.268167 | F49: -0.22357034 | G49: -0.074388543 | H49: 0.45038534 | I49: 0.71944963
B50: Revised regulated tax liability for comparison against allowance | D50: £m nominal | E50: 13.857989 | F50: -0.21206277 | G50: -0.074388543 | H50: 0.45038534 | I50: 0.71944963
B52: Revised regulated tax liability for comparison against allowance | D52: £m 20/21 | E52: 10.821289 | F52: -0.16043574 | G52: -0.054225479 | H52: 0.32427611 | I52: 0.50787149
B54: Allowance
B56: Tax Allowance per latest PCFM | D56: £m 20/21 | E56: 4.1012756 | F56: 1.5628832 | G56: 1.2419164 | H56: 1.2622803 | I56: 1.2767761
B58: Out(under) performance
...

Sheet R9 - Corporate Governance
A1: R9 - Corporate Governance
A2: SPD
A3: 2026
D5: Actuals | E5: Actuals | F5: Actuals | G5: Forecast | H5: Forecast
D6: 2024 | E6: 2025 | F6: 2026 | G6: 2027 | H6: 2028
D7: 2023/24 | E7: 2024/25 | F7: 2025/26 | G7: 2026/27 | H7: 2027/28
A9: Dividends Reconciliation - Regulated Business to Accounts
B11: Dividend paid as per Statutory Accounts | C11: £m nominal | D11: 58.2 | E11: 62.9 | F11: 65.3 | G11: 0 | H11: 0
B12: Less dividend paid not related to Regulated business
B13: [Insert adjustment as necessary] | C13: £m nominal | D13: 0 | E13: 0 | F13: 0 | G13: 0 | H13: 0
B14: [Insert adjustment as necessary] | C14: £m nominal | D14: 0 | E14: 0 | F14: 0 | G14: 0 | H14: 0
B15: [Insert new rows here as necessary] | C15: £m nominal | D15: 0 | E15: 0 | F15: 0 | G15: 0 | H15: 0
B16: Dividend paid relating to the Regulated Business | C16: £m nominal | D16: 58.2 | E16: 62.9 | F16: 65.3 | G16: 0 | H16: 0
B18: Shareholder loan interest (not included as Net Interest per Regulatory (RIIO-2) definition) | C18: £m nominal | D18: 0 | E18: 0 | F18: 0 | G18: 0 | H18: 0
A22: Executive Directors* Remuneration
D23: 2026 - Actuals
D24: Director 1 | E24: Director 2 | F24: Director 3 | G24: Director 4 | H24: Director 5
C25: Name of Director | D25: Highest Paid Director (CEO Nicola Connelly) | E25: Other Directors | F25: Total | G25: 0 | H25: 0
B26: Fixed Pay
B27: Salary | C27: £m nominal | D27: 0.28 | E27: 0.478 | F27: 0.758 | G27: 0 | H27: 0
B28: Bonus | C28: £m nominal | D28: 0 | E28: 0 | F28: 0 | G28: 0 | H28: 0
B29: Position Value | C29: £m nominal | D29: 0.04 | E29: 0.03 | F29: 0.07 | G29: 0 | H29: 0
B30: Benefits | C30: £m nominal | D30: 0 | E30: 0 | F30: 0 | G30: 0 | H30: 0
B31: Private Medical Insurance | C31: £m nominal | D31: 0.00116081 | E31: 0.00401508 | F31: 0.00517589 | G31: 0 | H31: 0
B32: Car Allowance | C32: £m nominal | D32: 0.009 | E32: 0.0234 | F32: 0.0324 | G32: 0 | H32: 0
B33: Pension | C33: £m nominal | D33: 0 | E33: 0 | F33: 0 | G33: 0 | H33: 0
B34: Pension Allowance, no longer in scheme | C34: £m nominal | D34: 0.07 | E34: 0 | F34: 0.07 | G34: 0 | H34: 0
B35: Pension Top Up Allowance | C35: £m nominal | D35: 0 | E35: 0.0137 | F35: 0.0137 | G35: 0 | H35: 0
B36: Defined Benefit Scheme | C36: £m nominal | D36: 0 | E36: 0.06313188 | F36: 0.06313188 | G36: 0 | H36: 0
B37: Total Fixed Pay | C37: £m nominal | D37: 0.40016081 | E37: 0.61224696 | F37: 1.0124078 | G37: 0 | H37: 0
B38: Allocation to Regulated Business | C38: £m nominal | D38: 0 | E38: 0.14550102 | F38: 0.14550102 | G38: 0 | H38: 0
B40: Variable Pay
B41: Incentives | C41: £m nominal | D41: 0 | E41: 0 | F41: 0 | G41: 0 | H41: 0
B42: [Insert new rows here as necessary] | C42: £m nominal | D42: 0.47053685 | E42: 0 | F42: 0.47053685 | G42: 0 | H42: 0
B43: Performance related Pay | C43: £m nominal | D43: 0 | E43: 0 | F43: 0 | G43: 0 | H43: 0
B44: [Insert new rows here as necessary] | C44: £m nominal | D44: 0.19756376 | E44: 0.19075385 | F44: 0.38831761 | G44: 0 | H44: 0
B45: Total Variable Pay | C45: £m nominal | D45: 0.66810061 | E45: 0.19075385 | F45: 0.85885446 | G45: 0 | H45: 0
B46: Allocation to Regulated Business | C46: £m nominal | D46: 0 | E46: 0 | F46: 0 | G46: 0 | H46: 0
B48: Total Pay | C48: £m nominal | D48: 1.0682614 | E48: 0.80300081 | F48: 1.8712622 | G48: 0 | H48: 0
B49: Total Pay related to Regulated Business | C49: £m nominal | D49: 0 | E49: 0.14550102 | F49: 0.14550102 | G49: 0 | H49: 0
...

Sheet R10 - Pensions & Oth Activities
A1: R10 - Pensions & Other Activities
A2: SPD
A3: 2026
D5: Actuals | E5: Actuals | F5: Actuals | G5: Forecast | H5: Forecast
D6: 2024 | E6: 2025 | F6: 2026 | G6: 2027 | H6: 2028
D7: 2023/24 | E7: 2024/25 | F7: 2025/26 | G7: 2026/27 | H7: 2027/28
B9: Pensions
B12: Licensee share of total pension deficit repair payment made for defined benefit scheme | C12: £m nominal | D12: 7.0036165 | E12: 1.671048 | F12: 1.5618965 | G12: 0 | H12: 0
B13: Of which:
B14: Established deficit element funded via specific allowances | C14: £m nominal | D14: 0 | E14: 0 | F14: 0 | G14: 0 | H14: 0
B15: Incremental deficit funded via totex | C15: £m nominal | D15: 7.0036165 | E15: 1.671048 | F15: 1.5618965 | G15: 0 | H15: 0
B18: Established deficit element funded via specific allowances | C18: £m 20/21 | D18: 0 | E18: 0 | F18: 0 | G18: 0 | H18: 0
B21: Established deficit (EDE) allowance as per latest PCFM | C21: £m 20/21 | D21: 29.993192 | E21: -5.75 | F21: -5.75 | G21: -5.75 | H21: -5.7448273
B22: Less Pension Payment History Allowance (PPH) | C22: £m 20/21 | D22: -0.60113756 | E22: -5.75 | F22: -5.8 | G22: 0 | H22: 0
B23: Established deficit allowance less PPH | C23: £m 20/21 | D23: 30.594329 | E23: 0 | F23: 0.05 | G23: -5.75 | H23: -5.7448273
D25: Enter valuation date
B28: Latest pension scheme valuation | D28: 44651
B30: Price base | D30: 21/22
B33: Total Liabilities attributable to post cut-off date notional sub fund | C33: £m 21/22 | D33: 915.6
B34: Total Liabilities attributable to pre cut-off date notional sub fund | C34: £m 21/22 | D34: 4217.8
D35: 0
B36: Total Assets attributable to post cut-off date notional sub fund | C36: £m 21/22 | D36: 852.4
B37: Total Assets attributable to pre cut-off date notional sub fund | C37: £m 21/22 | D37: 4061.4
B39: Deficit in the post Cut-Off Date Notional Sub-Fund | C39: £m 21/22 | D39: 63.2
B40: Deficit in the pre Cut-Off Date Notional Sub-Fund | C40: £m 21/22 | D40: 156.4
B42: Licensee element of established deficit | C42: £m 21/22 | D42: -29.4
B43: Licensee element of incremental deficit | C43: £m 21/22 | D43: 15.6
B47: Other Activities
D51: Actuals | E51: Actuals | F51: Actuals | G51: Forecast | H51: Forecast
D52: 2024 | E52: 2025 | F52: 2026 | G52: 2027 | H52: 2028
B54: Post-tax total fines and penalties (including GS payments) | C54: £m 20/21 | D54: 0.1498815 | E54: 1.8169502 | F54: 0.02480159 | G54: 0 | H54: 0
B56: Ofgem related fines and penalties
B57: [Insert detail of fine or penalty] | C57: £m nominal | D57: 0 | E57: 0 | F57: 0 | G57: 0 | H57: 0
B58: [Insert detail of fine or penalty] | C58: £m nominal | D58: 0 | E58: 0 | F58: 0 | G58: 0 | H58: 0
B59: [Insert new rows here as necessary] | C59: £m nominal | D59: 0 | E59: 0 | F59: 0 | G59: 0 | H59: 0
B60: Total Ofgem related fines and penalties | C60: £m nominal | D60: 0 | E60: 0 | F60: 0 | G60: 0 | H60: 0
B61: Any adjustment for tax | C61: £m nominal | D61: 0 | E61: 0 | F61: 0 | G61: 0 | H61: 0
B62: Post-tax total fines and penalties | C62: £m nominal | D62: 0 | E62: 0 | F62: 0 | G62: 0 | H62: 0
B64: Guaranteed Standard (GS) payments
B65: Total GS payments | C65: £m nominal | D65: 0.236965 | E65: 3.202175 | F65: 0.045365 | G65: 0 | H65: 0
...
